BEGIN:VCALENDAR
VERSION:2.0
PRODID:-//Mannix Marketing//CliftonPark.com ICS//EN
BEGIN:VEVENT
DTEND:20260425T180000
DTSTART:20260425T100000
SUMMARY:The official opening of NYzipline
DESCRIPTION:The wait is over - NYzipline officially opens this Saturday!

We had an awesome soft opening last weekend, and now we're ready to kick off the season for real. [Full Details at https://www.cliftonpark.com/event/the-official-opening-of-nyzipline-275366/]
URL;VALUE=URI:https://www.cliftonpark.com/event/the-official-opening-of-nyzipline-275366/
UID:https://www.cliftonpark.com/event/the-official-opening-of-nyzipline-275366/
DTSTAMP:20260424T053438
ORGANIZER;CN=CliftonPark.com:X-ADDR:https://www.cliftonpark.com/event/the-official-opening-of-nyzipline-275366/
LOCATION:
END:VEVENT
END:VCALENDAR
