BEGIN:VCALENDAR
VERSION:2.0
PRODID:-//Mannix Marketing//CliftonPark.com ICS//EN
BEGIN:VEVENT
DTEND:20260428T200000
DTSTART:20260428T180000
SUMMARY:2 for Tuesday: Book Garden
DESCRIPTION:2 for Tuesday: Book Garden [Full Details at https://www.cliftonpark.com/event/2-for-tuesday-book-garden-275365/]
URL;VALUE=URI:https://www.cliftonpark.com/event/2-for-tuesday-book-garden-275365/
UID:https://www.cliftonpark.com/event/2-for-tuesday-book-garden-275365/
DTSTAMP:20260424T154117
ORGANIZER;CN=CliftonPark.com:X-ADDR:https://www.cliftonpark.com/event/2-for-tuesday-book-garden-275365/
LOCATION:
END:VEVENT
END:VCALENDAR
