BEGIN:VCALENDAR
VERSION:2.0
PRODID:-//Mannix Marketing//CliftonPark.com ICS//EN
BEGIN:VEVENT
DTEND:20260427T200000
DTSTART:20260427T180000
SUMMARY:Sweet Kitty 25% off Monday
DESCRIPTION:Sweet Kitty 25% of mondays! [Full Details at https://www.cliftonpark.com/event/sweet-kitty-25-off-monday-275364/]
URL;VALUE=URI:https://www.cliftonpark.com/event/sweet-kitty-25-off-monday-275364/
UID:https://www.cliftonpark.com/event/sweet-kitty-25-off-monday-275364/
DTSTAMP:20260424T154117
ORGANIZER;CN=CliftonPark.com:X-ADDR:https://www.cliftonpark.com/event/sweet-kitty-25-off-monday-275364/
LOCATION:
END:VEVENT
END:VCALENDAR
