BEGIN:VCALENDAR
VERSION:2.0
PRODID:-//Mannix Marketing//CliftonPark.com ICS//EN
BEGIN:VEVENT
DTEND:20260424T203000
DTSTART:20260424T180000
SUMMARY:Live Music at Thirsty Owl Saratoga: Box Fox
DESCRIPTION:Get ready for live music at Thirsty Owl Saratoga! [Full Details at https://www.cliftonpark.com/event/live-music-at-thirsty-owl-saratoga-275293/]
URL;VALUE=URI:https://www.cliftonpark.com/event/live-music-at-thirsty-owl-saratoga-275293/
UID:https://www.cliftonpark.com/event/live-music-at-thirsty-owl-saratoga-275293/
DTSTAMP:20260422T052508
ORGANIZER;CN=CliftonPark.com:X-ADDR:https://www.cliftonpark.com/event/live-music-at-thirsty-owl-saratoga-275293/
LOCATION:
END:VEVENT
END:VCALENDAR
