BEGIN:VCALENDAR
VERSION:2.0
PRODID:-//Mannix Marketing//CliftonPark.com ICS//EN
BEGIN:VEVENT
DTEND:20260424T200000
DTSTART:20260424T180000
SUMMARY:Seagull Beach
DESCRIPTION:Come relax with us while you create your own one-of-a-kind beach scene, with our guided instruction. Beginners welcome! [Full Details at https://www.cliftonpark.com/event/seagull-beach-275290/]
URL;VALUE=URI:https://www.cliftonpark.com/event/seagull-beach-275290/
UID:https://www.cliftonpark.com/event/seagull-beach-275290/
DTSTAMP:20260421T154350
ORGANIZER;CN=CliftonPark.com:X-ADDR:https://www.cliftonpark.com/event/seagull-beach-275290/
LOCATION:
END:VEVENT
END:VCALENDAR
