BEGIN:VCALENDAR
VERSION:2.0
PRODID:-//Mannix Marketing//CliftonPark.com ICS//EN
BEGIN:VEVENT
DTEND:20260425T150000
DTSTART:20260425T100000
SUMMARY:Schenectady County Wide Flea Market and More!
DESCRIPTION:Schenectady County Wide Flea Market and Farmer's Market at Via Port Rotterdam. [Full Details at https://www.cliftonpark.com/event/schenectady-county-wide-flea-market-275283/]
URL;VALUE=URI:https://www.cliftonpark.com/event/schenectady-county-wide-flea-market-275283/
UID:https://www.cliftonpark.com/event/schenectady-county-wide-flea-market-275283/
DTSTAMP:20260421T003641
ORGANIZER;CN=CliftonPark.com:X-ADDR:https://www.cliftonpark.com/event/schenectady-county-wide-flea-market-275283/
LOCATION:
END:VEVENT
END:VCALENDAR
