BEGIN:VCALENDAR
VERSION:2.0
PRODID:-//Mannix Marketing//CliftonPark.com ICS//EN
BEGIN:VEVENT
DTEND:20260425T150000
DTSTART:20260425T100000
SUMMARY:Spring Fling Shopping Bazaar
DESCRIPTION:Join us for the ever popular Spring Fling Shopping Bazaar. [Full Details at https://www.cliftonpark.com/event/spring-fling-shopping-bazaar-275281/]
URL;VALUE=URI:https://www.cliftonpark.com/event/spring-fling-shopping-bazaar-275281/
UID:https://www.cliftonpark.com/event/spring-fling-shopping-bazaar-275281/
DTSTAMP:20260421T022017
ORGANIZER;CN=CliftonPark.com:X-ADDR:https://www.cliftonpark.com/event/spring-fling-shopping-bazaar-275281/
LOCATION:
END:VEVENT
END:VCALENDAR
