BEGIN:VCALENDAR
VERSION:2.0
PRODID:-//Mannix Marketing//CliftonPark.com ICS//EN
BEGIN:VEVENT
DTEND:20260425T150000
DTSTART:20260425T110000
SUMMARY:2026 Tater Trot
DESCRIPTION:Join us in Downtown Schenectady on Saturday, April 25 from 11am-3pm for the return of the TATER TROT! [Full Details at https://www.cliftonpark.com/event/tater-trot-275280/]
URL;VALUE=URI:https://www.cliftonpark.com/event/tater-trot-275280/
UID:https://www.cliftonpark.com/event/tater-trot-275280/
DTSTAMP:20260421T035304
ORGANIZER;CN=CliftonPark.com:X-ADDR:https://www.cliftonpark.com/event/tater-trot-275280/
LOCATION:
END:VEVENT
END:VCALENDAR
