BEGIN:VCALENDAR
VERSION:2.0
PRODID:-//Mannix Marketing//CliftonPark.com ICS//EN
BEGIN:VEVENT
DTEND:20260501T200000
DTSTART:20260501T083500
SUMMARY:Knights Of Columbus Car Wash Fundraiser
DESCRIPTION:St. Edwards Knights of Columbus Council 11064 is conducting a charitable fundraising campaign in conjunction with the Hoffman Car Wash organization's Helping Hands program. [Full Details at https://www.cliftonpark.com/event/knights-of-columbus-car-wash-fundraiser-275271/]
URL;VALUE=URI:https://www.cliftonpark.com/event/knights-of-columbus-car-wash-fundraiser-275271/
UID:https://www.cliftonpark.com/event/knights-of-columbus-car-wash-fundraiser-275271/
DTSTAMP:20260421T124023
ORGANIZER;CN=CliftonPark.com:X-ADDR:https://www.cliftonpark.com/event/knights-of-columbus-car-wash-fundraiser-275271/
LOCATION:
END:VEVENT
END:VCALENDAR
