BEGIN:VCALENDAR
VERSION:2.0
PRODID:-//Mannix Marketing//CliftonPark.com ICS//EN
BEGIN:VEVENT
DTEND:20260503T170000
DTSTART:20260503T110000
SUMMARY:Last Lap Market
DESCRIPTION:Come down to Putnam Place to enjoy a day of oddities and vintage at the Last Lap Market! [Full Details at https://www.cliftonpark.com/event/last-lap-market-275265/]
URL;VALUE=URI:https://www.cliftonpark.com/event/last-lap-market-275265/
UID:https://www.cliftonpark.com/event/last-lap-market-275265/
DTSTAMP:20260423T042415
ORGANIZER;CN=CliftonPark.com:X-ADDR:https://www.cliftonpark.com/event/last-lap-market-275265/
LOCATION:
END:VEVENT
END:VCALENDAR
