BEGIN:VCALENDAR
VERSION:2.0
PRODID:-//Mannix Marketing//CliftonPark.com ICS//EN
BEGIN:VEVENT
DTEND:20260501T235900
DTSTART:20260501T000000
SUMMARY:May Take-and-Make: Weaving Bracelet
DESCRIPTION:Weave string and straws together into a colorful funky bracelet. This craft is recommended for grades K and up, and available in the Children's Room while supplies last. [Full Details at https://www.cliftonpark.com/event/may-take-and-make-weaving-bracelet-275219/]
URL;VALUE=URI:https://www.cliftonpark.com/event/may-take-and-make-weaving-bracelet-275219/
UID:https://www.cliftonpark.com/event/may-take-and-make-weaving-bracelet-275219/
DTSTAMP:20260424T153559
ORGANIZER;CN=CliftonPark.com:X-ADDR:https://www.cliftonpark.com/event/may-take-and-make-weaving-bracelet-275219/
LOCATION:
END:VEVENT
END:VCALENDAR
