BEGIN:VCALENDAR
VERSION:2.0
PRODID:-//Mannix Marketing//CliftonPark.com ICS//EN
BEGIN:VEVENT
DTEND:20260427T193000
DTSTART:20260427T183000
SUMMARY:At the Edge of the World: An Antarctic Expedition
DESCRIPTION:Join local author and writer Mark Marchand as he recounts his two-week expedition to Antarctica through photographs and stories. [Full Details at https://www.cliftonpark.com/event/at-the-edge-of-the-world-an-antarctic-expedition-275198/]
URL;VALUE=URI:https://www.cliftonpark.com/event/at-the-edge-of-the-world-an-antarctic-expedition-275198/
UID:https://www.cliftonpark.com/event/at-the-edge-of-the-world-an-antarctic-expedition-275198/
DTSTAMP:20260420T172909
ORGANIZER;CN=CliftonPark.com:X-ADDR:https://www.cliftonpark.com/event/at-the-edge-of-the-world-an-antarctic-expedition-275198/
LOCATION:
END:VEVENT
END:VCALENDAR
