BEGIN:VCALENDAR
VERSION:2.0
PRODID:-//Mannix Marketing//CliftonPark.com ICS//EN
BEGIN:VEVENT
DTEND:20260424T220000
DTSTART:20260424T200000
SUMMARY:Alice Howe & Freebo
DESCRIPTION:Howe's singing carries a timeless beauty that transports listeners back to the golden era of folk singer-songwriters. Joining her is the legendary Freebo, a true folk-rock-blues icon. [Full Details at https://www.cliftonpark.com/event/alice-howe-freebo-275192/]
URL;VALUE=URI:https://www.cliftonpark.com/event/alice-howe-freebo-275192/
UID:https://www.cliftonpark.com/event/alice-howe-freebo-275192/
DTSTAMP:20260420T171447
ORGANIZER;CN=CliftonPark.com:X-ADDR:https://www.cliftonpark.com/event/alice-howe-freebo-275192/
LOCATION:
END:VEVENT
END:VCALENDAR
