BEGIN:VCALENDAR
VERSION:2.0
PRODID:-//Mannix Marketing//CliftonPark.com ICS//EN
BEGIN:VEVENT
DTEND:20260420T210000
DTSTART:20260420T190000
SUMMARY:Open Mic
DESCRIPTION:Play your song on the Caffe's famous stage! [Full Details at https://www.cliftonpark.com/event/open-mic-275187/]
URL;VALUE=URI:https://www.cliftonpark.com/event/open-mic-275187/
UID:https://www.cliftonpark.com/event/open-mic-275187/
DTSTAMP:20260420T032916
ORGANIZER;CN=CliftonPark.com:X-ADDR:https://www.cliftonpark.com/event/open-mic-275187/
LOCATION:
END:VEVENT
END:VCALENDAR
