BEGIN:VCALENDAR
VERSION:2.0
PRODID:-//Mannix Marketing//CliftonPark.com ICS//EN
BEGIN:VEVENT
DTEND:20260502T130000
DTSTART:20260502T090000
SUMMARY:Opening Day at High Rock Park
DESCRIPTION:Join us May 2 as Saratoga Farmers' Market returns to High Rock Park for its 48th season! Opening day features live music, kids' activities, local food, new vendors, and more. Sat 9-1, Wed 3-6. [Full Details at https://www.cliftonpark.com/event/opening-day-at-high-rock-park-275183/]
URL;VALUE=URI:https://www.cliftonpark.com/event/opening-day-at-high-rock-park-275183/
UID:https://www.cliftonpark.com/event/opening-day-at-high-rock-park-275183/
DTSTAMP:20260423T042415
ORGANIZER;CN=CliftonPark.com:X-ADDR:https://www.cliftonpark.com/event/opening-day-at-high-rock-park-275183/
LOCATION:
END:VEVENT
END:VCALENDAR
