BEGIN:VCALENDAR
VERSION:2.0
PRODID:-//Mannix Marketing//CliftonPark.com ICS//EN
BEGIN:VEVENT
DTEND:20260508T170000
DTSTART:20260508T100000
SUMMARY:Nelly DeVuyst Consult & Facial Experience
DESCRIPTION:Skin Consultation + Facial Experience - A results-driven, hands-on visit focused on your skin. [Full Details at https://www.cliftonpark.com/event/nelly-devuyst-consult-facial-experience-275176/]
URL;VALUE=URI:https://www.cliftonpark.com/event/nelly-devuyst-consult-facial-experience-275176/
UID:https://www.cliftonpark.com/event/nelly-devuyst-consult-facial-experience-275176/
DTSTAMP:20260423T042438
ORGANIZER;CN=CliftonPark.com:X-ADDR:https://www.cliftonpark.com/event/nelly-devuyst-consult-facial-experience-275176/
LOCATION:
END:VEVENT
END:VCALENDAR
