BEGIN:VCALENDAR
VERSION:2.0
PRODID:-//Mannix Marketing//CliftonPark.com ICS//EN
BEGIN:VEVENT
DTEND:20260507T200000
DTSTART:20260507T170000
SUMMARY:Nelly DeVuyst Skincare Open House
DESCRIPTION:Join us at Spa Cascada May 7th for an elevated skincare experience featuring renowned cosmetic scientist, Cinthia Audet. Enjoy expert insight, personalized consultations, and exclusive offerings. [Full Details at https://www.cliftonpark.com/event/nelly-devuyst-skincare-open-house-275175/]
URL;VALUE=URI:https://www.cliftonpark.com/event/nelly-devuyst-skincare-open-house-275175/
UID:https://www.cliftonpark.com/event/nelly-devuyst-skincare-open-house-275175/
DTSTAMP:20260423T042439
ORGANIZER;CN=CliftonPark.com:X-ADDR:https://www.cliftonpark.com/event/nelly-devuyst-skincare-open-house-275175/
LOCATION:
END:VEVENT
END:VCALENDAR
