BEGIN:VCALENDAR
VERSION:2.0
PRODID:-//Mannix Marketing//CliftonPark.com ICS//EN
BEGIN:VEVENT
DTEND:20260429T200000
DTSTART:20260429T180000
SUMMARY:Cosmetic Chemistry Mix & Sip - Hydrating Overnight Serum
DESCRIPTION:Step into the role of cosmetic chemist and experience how professional skincare is formulated in a fun, hands-on setting. [Full Details at https://www.cliftonpark.com/event/cosmetic-chemistry-mix-sip-hydrating-overnight-serum-275134/]
URL;VALUE=URI:https://www.cliftonpark.com/event/cosmetic-chemistry-mix-sip-hydrating-overnight-serum-275134/
UID:https://www.cliftonpark.com/event/cosmetic-chemistry-mix-sip-hydrating-overnight-serum-275134/
DTSTAMP:20260421T154350
ORGANIZER;CN=CliftonPark.com:X-ADDR:https://www.cliftonpark.com/event/cosmetic-chemistry-mix-sip-hydrating-overnight-serum-275134/
LOCATION:
END:VEVENT
END:VCALENDAR
