BEGIN:VCALENDAR
VERSION:2.0
PRODID:-//Mannix Marketing//CliftonPark.com ICS//EN
BEGIN:VEVENT
DTEND:20260503T173000
DTSTART:20260503T153000
SUMMARY:Soft Touch Paint & Sip Event!
DESCRIPTION:Come on in to relax and create a unique project! [Full Details at https://www.cliftonpark.com/event/soft-touch-paint-sip-event-275089/]
URL;VALUE=URI:https://www.cliftonpark.com/event/soft-touch-paint-sip-event-275089/
UID:https://www.cliftonpark.com/event/soft-touch-paint-sip-event-275089/
DTSTAMP:20260419T074224
ORGANIZER;CN=CliftonPark.com:X-ADDR:https://www.cliftonpark.com/event/soft-touch-paint-sip-event-275089/
LOCATION:
END:VEVENT
END:VCALENDAR
