BEGIN:VCALENDAR
VERSION:2.0
PRODID:-//Mannix Marketing//CliftonPark.com ICS//EN
BEGIN:VEVENT
DTEND:20260421T180000
DTSTART:20260421T120000
SUMMARY:Saratoga's Best Happy Hour
DESCRIPTION:Happy Hour Noon - 6:00 P.M. [Full Details at https://www.cliftonpark.com/event/saratogas-best-happy-hour-275062/]
URL;VALUE=URI:https://www.cliftonpark.com/event/saratogas-best-happy-hour-275062/
UID:https://www.cliftonpark.com/event/saratogas-best-happy-hour-275062/
DTSTAMP:20260420T032944
ORGANIZER;CN=CliftonPark.com:X-ADDR:https://www.cliftonpark.com/event/saratogas-best-happy-hour-275062/
LOCATION:
END:VEVENT
END:VCALENDAR
