BEGIN:VCALENDAR
VERSION:2.0
PRODID:-//Mannix Marketing//CliftonPark.com ICS//EN
BEGIN:VEVENT
DTEND:20260420T234500
DTSTART:20260420T210000
SUMMARY:Pizza Bowl
DESCRIPTION:Unlimited Pizza, Shoes and Bowling! [Full Details at https://www.cliftonpark.com/event/pizza-bowl-275059/]
URL;VALUE=URI:https://www.cliftonpark.com/event/pizza-bowl-275059/
UID:https://www.cliftonpark.com/event/pizza-bowl-275059/
DTSTAMP:20260420T032944
ORGANIZER;CN=CliftonPark.com:X-ADDR:https://www.cliftonpark.com/event/pizza-bowl-275059/
LOCATION:
END:VEVENT
END:VCALENDAR
