BEGIN:VCALENDAR
VERSION:2.0
PRODID:-//Mannix Marketing//CliftonPark.com ICS//EN
BEGIN:VEVENT
DTEND:20260423T234500
DTSTART:20260423T210000
SUMMARY:$3 Bowling Night
DESCRIPTION:$3 Deals From 9 P.M. until Midnight [Full Details at https://www.cliftonpark.com/event/2-bowling-night-275058/]
URL;VALUE=URI:https://www.cliftonpark.com/event/2-bowling-night-275058/
UID:https://www.cliftonpark.com/event/2-bowling-night-275058/
DTSTAMP:20260423T030114
ORGANIZER;CN=CliftonPark.com:X-ADDR:https://www.cliftonpark.com/event/2-bowling-night-275058/
LOCATION:
END:VEVENT
END:VCALENDAR
