BEGIN:VCALENDAR
VERSION:2.0
PRODID:-//Mannix Marketing//CliftonPark.com ICS//EN
BEGIN:VEVENT
DTEND:20260423T190000
DTSTART:20260423T173000
SUMMARY:Explore Together Travel Event with AAA, Viking and Rocky Mountaineer
DESCRIPTION:Join AAA Northway for a special Explore Together Travel Event featuring two inspiring travel experiences, Viking Cruises and Rocky Mountaineer, both taking place the same evening at the same location. [Full Details at https://www.cliftonpark.com/event/explore-together-travel-event-with-aaa-viking-and-rocky-mountaineer-274961/]
URL;VALUE=URI:https://www.cliftonpark.com/event/explore-together-travel-event-with-aaa-viking-and-rocky-mountaineer-274961/
UID:https://www.cliftonpark.com/event/explore-together-travel-event-with-aaa-viking-and-rocky-mountaineer-274961/
DTSTAMP:20260423T030236
ORGANIZER;CN=CliftonPark.com:X-ADDR:https://www.cliftonpark.com/event/explore-together-travel-event-with-aaa-viking-and-rocky-mountaineer-274961/
LOCATION:
END:VEVENT
END:VCALENDAR
