BEGIN:VCALENDAR
VERSION:2.0
PRODID:-//Mannix Marketing//CliftonPark.com ICS//EN
BEGIN:VEVENT
DTEND:20260424T153000
DTSTART:20260424T140000
SUMMARY:Operation S.A.V.E.
DESCRIPTION:Join us for Operation SAVE, a vital training presented by the Albany VA, designed to help community members respond with care and compassion when a Veteran may be in crisis. [Full Details at https://www.cliftonpark.com/event/operation-save-274779/]
URL;VALUE=URI:https://www.cliftonpark.com/event/operation-save-274779/
UID:https://www.cliftonpark.com/event/operation-save-274779/
DTSTAMP:20260420T171440
ORGANIZER;CN=CliftonPark.com:X-ADDR:https://www.cliftonpark.com/event/operation-save-274779/
LOCATION:
END:VEVENT
END:VCALENDAR
