BEGIN:VCALENDAR
VERSION:2.0
PRODID:-//Mannix Marketing//CliftonPark.com ICS//EN
BEGIN:VEVENT
DTEND:20260421T193000
DTSTART:20260421T183000
SUMMARY:EcoBricks! An Earth Day Discussion
DESCRIPTION:Sometimes it feels like it can be hard to make a difference in the environment as an individual &mdash; but you can with EcoBricks! [Full Details at https://www.cliftonpark.com/event/ecobricks-an-earth-day-discussion-274778/]
URL;VALUE=URI:https://www.cliftonpark.com/event/ecobricks-an-earth-day-discussion-274778/
UID:https://www.cliftonpark.com/event/ecobricks-an-earth-day-discussion-274778/
DTSTAMP:20260419T103041
ORGANIZER;CN=CliftonPark.com:X-ADDR:https://www.cliftonpark.com/event/ecobricks-an-earth-day-discussion-274778/
LOCATION:
END:VEVENT
END:VCALENDAR
