BEGIN:VCALENDAR
VERSION:2.0
PRODID:-//Mannix Marketing//CliftonPark.com ICS//EN
BEGIN:VEVENT
DTSTART:20260421T180000
SUMMARY:Bright Sighted Open House
DESCRIPTION:Join Bright Sighted Media for an Open House as they celebrate their next chapter in their new studio space (inside The Innovation Center Saratoga)! [Full Details at https://www.cliftonpark.com/event/bright-sighted-open-house-274774/]
URL;VALUE=URI:https://www.cliftonpark.com/event/bright-sighted-open-house-274774/
UID:https://www.cliftonpark.com/event/bright-sighted-open-house-274774/
DTSTAMP:20260421T031952
ORGANIZER;CN=CliftonPark.com:X-ADDR:https://www.cliftonpark.com/event/bright-sighted-open-house-274774/
LOCATION:
END:VEVENT
END:VCALENDAR
