BEGIN:VCALENDAR
VERSION:2.0
PRODID:-//Mannix Marketing//CliftonPark.com ICS//EN
BEGIN:VEVENT
DTEND:20260515T220000
DTSTART:20260515T200000
SUMMARY:Maestro: Improv Comedy Showdown
DESCRIPTION:A comedy elimination showdown. Many competitors enter but only one will emerge as the "Maestro" [Full Details at https://www.cliftonpark.com/event/maestro-improv-comedy-showdown-274723/]
URL;VALUE=URI:https://www.cliftonpark.com/event/maestro-improv-comedy-showdown-274723/
UID:https://www.cliftonpark.com/event/maestro-improv-comedy-showdown-274723/
DTSTAMP:20260422T004212
ORGANIZER;CN=CliftonPark.com:X-ADDR:https://www.cliftonpark.com/event/maestro-improv-comedy-showdown-274723/
LOCATION:
END:VEVENT
END:VCALENDAR
