BEGIN:VCALENDAR
VERSION:2.0
PRODID:-//Mannix Marketing//CliftonPark.com ICS//EN
BEGIN:VEVENT
DTEND:20260511T210000
DTSTART:20260511T190000
SUMMARY:Monday TRIVIA at Carson's Woodside Tavern
DESCRIPTION:Come play trivia and challenge your brain at Carson's Woodside Tavern every Monday night from 7pm - 9pm! [Full Details at https://www.cliftonpark.com/event/monday-trivia-at-carsons-woodside-tavern-274720/]
URL;VALUE=URI:https://www.cliftonpark.com/event/monday-trivia-at-carsons-woodside-tavern-274720/
UID:https://www.cliftonpark.com/event/monday-trivia-at-carsons-woodside-tavern-274720/
DTSTAMP:20260422T201406
ORGANIZER;CN=CliftonPark.com:X-ADDR:https://www.cliftonpark.com/event/monday-trivia-at-carsons-woodside-tavern-274720/
LOCATION:
END:VEVENT
END:VCALENDAR
