BEGIN:VCALENDAR
VERSION:2.0
PRODID:-//Mannix Marketing//CliftonPark.com ICS//EN
BEGIN:VEVENT
DTEND:20260425T133000
DTSTART:20260425T100000
SUMMARY:Tulip Barn Quilt Workshop
DESCRIPTION:Join us at Shaker for a create your own Barn Quilt workshop, taught by Darcy Leigh of The Creative Jam! [Full Details at https://www.cliftonpark.com/event/tulip-barn-quilt-workshop-274568/]
URL;VALUE=URI:https://www.cliftonpark.com/event/tulip-barn-quilt-workshop-274568/
UID:https://www.cliftonpark.com/event/tulip-barn-quilt-workshop-274568/
DTSTAMP:20260421T154229
ORGANIZER;CN=CliftonPark.com:X-ADDR:https://www.cliftonpark.com/event/tulip-barn-quilt-workshop-274568/
LOCATION:
END:VEVENT
END:VCALENDAR
