BEGIN:VCALENDAR
VERSION:2.0
PRODID:-//Mannix Marketing//CliftonPark.com ICS//EN
BEGIN:VEVENT
DTEND:20260425T130000
DTSTART:20260425T100000
SUMMARY:ArtFlow: Artist Trading Cards
DESCRIPTION:ArtFlow with Irene Magee blends seated yoga, breathwork, and artmaking as you create expressive Artist Trading Cards in a supportive space. Light fare included; no experience needed. [Full Details at https://www.cliftonpark.com/event/artflow-artist-trading-cards-274454/]
URL;VALUE=URI:https://www.cliftonpark.com/event/artflow-artist-trading-cards-274454/
UID:https://www.cliftonpark.com/event/artflow-artist-trading-cards-274454/
DTSTAMP:20260421T154254
ORGANIZER;CN=CliftonPark.com:X-ADDR:https://www.cliftonpark.com/event/artflow-artist-trading-cards-274454/
LOCATION:
END:VEVENT
END:VCALENDAR
