BEGIN:VCALENDAR
VERSION:2.0
PRODID:-//Mannix Marketing//CliftonPark.com ICS//EN
BEGIN:VEVENT
DTEND:20260528T200000
DTSTART:20260528T190000
SUMMARY:Opera Saratoga Presents: Happy End
DESCRIPTION:Get ready for music that sizzles, satire that bites, and a partnership that's rewriting the future of opera in New York. [Full Details at https://www.cliftonpark.com/event/opera-saratoga-presents-happy-end-274362/]
URL;VALUE=URI:https://www.cliftonpark.com/event/opera-saratoga-presents-happy-end-274362/
UID:https://www.cliftonpark.com/event/opera-saratoga-presents-happy-end-274362/
DTSTAMP:20260422T003224
ORGANIZER;CN=CliftonPark.com:X-ADDR:https://www.cliftonpark.com/event/opera-saratoga-presents-happy-end-274362/
LOCATION:
END:VEVENT
END:VCALENDAR
