BEGIN:VCALENDAR
VERSION:2.0
PRODID:-//Mannix Marketing//CliftonPark.com ICS//EN
BEGIN:VEVENT
DTEND:20260531T190000
DTSTART:20260531T170000
SUMMARY:Opera Saratoga Presents: Rodgers and Hammerstein At the Mansion
DESCRIPTION:A perennial favorite concert! Opera Saratoga partners with the Mansion of Saratoga for two performances of favorite hits by Rodgers, Hammerstein, and their friends! [Full Details at https://www.cliftonpark.com/event/opera-saratoga-presents-rodgers-and-hammerstein-at-the-mansion-274352/]
URL;VALUE=URI:https://www.cliftonpark.com/event/opera-saratoga-presents-rodgers-and-hammerstein-at-the-mansion-274352/
UID:https://www.cliftonpark.com/event/opera-saratoga-presents-rodgers-and-hammerstein-at-the-mansion-274352/
DTSTAMP:20260422T003320
ORGANIZER;CN=CliftonPark.com:X-ADDR:https://www.cliftonpark.com/event/opera-saratoga-presents-rodgers-and-hammerstein-at-the-mansion-274352/
LOCATION:
END:VEVENT
END:VCALENDAR
