BEGIN:VCALENDAR
VERSION:2.0
PRODID:-//Mannix Marketing//CliftonPark.com ICS//EN
BEGIN:VEVENT
DTEND:20260426T173000
DTSTART:20260426T153000
SUMMARY:Nesting Paint & Sip Event!
DESCRIPTION:Come on in to relax and create a unique project! [Full Details at https://www.cliftonpark.com/event/nesting-paint-sip-event-274199/]
URL;VALUE=URI:https://www.cliftonpark.com/event/nesting-paint-sip-event-274199/
UID:https://www.cliftonpark.com/event/nesting-paint-sip-event-274199/
DTSTAMP:20260421T154229
ORGANIZER;CN=CliftonPark.com:X-ADDR:https://www.cliftonpark.com/event/nesting-paint-sip-event-274199/
LOCATION:
END:VEVENT
END:VCALENDAR
