BEGIN:VCALENDAR
VERSION:2.0
PRODID:-//Mannix Marketing//CliftonPark.com ICS//EN
BEGIN:VEVENT
DTEND:20260428T160000
DTSTART:20260428T150000
SUMMARY:Teen Crafternoon: Iron-On Patch Bags
DESCRIPTION:Teens in grades 7-12, come to the Teen Room to customize a canvas zip-up bag with iron-on patches - perfect for home or school!

While supplies last. No registration required. [Full Details at https://www.cliftonpark.com/event/teen-crafternoon-iron-on-patch-bags-274058/]
URL;VALUE=URI:https://www.cliftonpark.com/event/teen-crafternoon-iron-on-patch-bags-274058/
UID:https://www.cliftonpark.com/event/teen-crafternoon-iron-on-patch-bags-274058/
DTSTAMP:20260421T154255
ORGANIZER;CN=CliftonPark.com:X-ADDR:https://www.cliftonpark.com/event/teen-crafternoon-iron-on-patch-bags-274058/
LOCATION:
END:VEVENT
END:VCALENDAR
