BEGIN:VCALENDAR
VERSION:2.0
PRODID:-//Mannix Marketing//CliftonPark.com ICS//EN
BEGIN:VEVENT
DTEND:20260428T130000
DTSTART:20260428T120000
SUMMARY:Handcraft Meet Up
DESCRIPTION:Join our informal online knitting and handcrafting meet-up. [Full Details at https://www.cliftonpark.com/event/handcraft-meet-up-274057/]
URL;VALUE=URI:https://www.cliftonpark.com/event/handcraft-meet-up-274057/
UID:https://www.cliftonpark.com/event/handcraft-meet-up-274057/
DTSTAMP:20260421T154254
ORGANIZER;CN=CliftonPark.com:X-ADDR:https://www.cliftonpark.com/event/handcraft-meet-up-274057/
LOCATION:
END:VEVENT
END:VCALENDAR
