BEGIN:VCALENDAR
VERSION:2.0
PRODID:-//Mannix Marketing//CliftonPark.com ICS//EN
BEGIN:VEVENT
DTEND:20260424T110000
DTSTART:20260424T100000
SUMMARY:Bagels and Barks
DESCRIPTION:What could be better than Bagels and Barks! Stop in for a bite to eat and meet and greet with several therapy dogs and their owners. Local chapter-certified therapy dogs will be in attendance. [Full Details at https://www.cliftonpark.com/event/bagels-and-barks-274043/]
URL;VALUE=URI:https://www.cliftonpark.com/event/bagels-and-barks-274043/
UID:https://www.cliftonpark.com/event/bagels-and-barks-274043/
DTSTAMP:20260420T171440
ORGANIZER;CN=CliftonPark.com:X-ADDR:https://www.cliftonpark.com/event/bagels-and-barks-274043/
LOCATION:
END:VEVENT
END:VCALENDAR
