BEGIN:VCALENDAR
VERSION:2.0
PRODID:-//Mannix Marketing//CliftonPark.com ICS//EN
BEGIN:VEVENT
DTEND:20260423T173000
DTSTART:20260423T163000
SUMMARY:Paws4Reading with Meggie (Cairn Terrier)
DESCRIPTION:Our Paws4Reading partners are certified therapy dogs who are happy to sit quietly and listen appreciatively to any story you wish to read. Please call 518-584-7860, ext. [Full Details at https://www.cliftonpark.com/event/paws4reading-with-meggie-cairn-terrier-274042/]
URL;VALUE=URI:https://www.cliftonpark.com/event/paws4reading-with-meggie-cairn-terrier-274042/
UID:https://www.cliftonpark.com/event/paws4reading-with-meggie-cairn-terrier-274042/
DTSTAMP:20260423T030120
ORGANIZER;CN=CliftonPark.com:X-ADDR:https://www.cliftonpark.com/event/paws4reading-with-meggie-cairn-terrier-274042/
LOCATION:
END:VEVENT
END:VCALENDAR
