BEGIN:VCALENDAR
VERSION:2.0
PRODID:-//Mannix Marketing//CliftonPark.com ICS//EN
BEGIN:VEVENT
DTEND:20260422T193000
DTSTART:20260422T183000
SUMMARY:Songs of the American Revolution
DESCRIPTION:2026 is the 250th anniversary of the signing of the Declaration of Independence! [Full Details at https://www.cliftonpark.com/event/songs-of-the-american-revolution-274041/]
URL;VALUE=URI:https://www.cliftonpark.com/event/songs-of-the-american-revolution-274041/
UID:https://www.cliftonpark.com/event/songs-of-the-american-revolution-274041/
DTSTAMP:20260422T024828
ORGANIZER;CN=CliftonPark.com:X-ADDR:https://www.cliftonpark.com/event/songs-of-the-american-revolution-274041/
LOCATION:
END:VEVENT
END:VCALENDAR
