BEGIN:VCALENDAR
VERSION:2.0
PRODID:-//Mannix Marketing//CliftonPark.com ICS//EN
BEGIN:VEVENT
DTEND:20260421T170000
DTSTART:20260421T160000
SUMMARY:Paws4Reading with Allie (Rottweiler)
DESCRIPTION:Our Paws4Reading partners are certified therapy dogs who are happy to sit quietly and listen appreciatively to any story you wish to read. Please call 518-584-7860, ext. [Full Details at https://www.cliftonpark.com/event/paws4reading-with-allie-rottweiler-274040/]
URL;VALUE=URI:https://www.cliftonpark.com/event/paws4reading-with-allie-rottweiler-274040/
UID:https://www.cliftonpark.com/event/paws4reading-with-allie-rottweiler-274040/
DTSTAMP:20260419T104027
ORGANIZER;CN=CliftonPark.com:X-ADDR:https://www.cliftonpark.com/event/paws4reading-with-allie-rottweiler-274040/
LOCATION:
END:VEVENT
END:VCALENDAR
