BEGIN:VCALENDAR
VERSION:2.0
PRODID:-//Mannix Marketing//CliftonPark.com ICS//EN
BEGIN:VEVENT
DTEND:20260423T173000
DTSTART:20260423T160000
SUMMARY:Teen Poetry Workshop
DESCRIPTION:Teens in grades 9-12, join Saratoga Springs Poet Laureate Jay Rogoff for a four-week poetry workshop for area high school students! [Full Details at https://www.cliftonpark.com/event/teen-poetry-workshop-273724/]
URL;VALUE=URI:https://www.cliftonpark.com/event/teen-poetry-workshop-273724/
UID:https://www.cliftonpark.com/event/teen-poetry-workshop-273724/
DTSTAMP:20260423T030237
ORGANIZER;CN=CliftonPark.com:X-ADDR:https://www.cliftonpark.com/event/teen-poetry-workshop-273724/
LOCATION:
END:VEVENT
END:VCALENDAR
