BEGIN:VCALENDAR
VERSION:2.0
PRODID:-//Mannix Marketing//CliftonPark.com ICS//EN
BEGIN:VEVENT
DTEND:20260423T120000
DTSTART:20260423T100000
SUMMARY:Let It Grow! - Pot Your Own Baby Plant
DESCRIPTION:Stop by the New and Popular area on the first floor of the library between 10 and 12 to select your own baby ... [Full Details at https://www.cliftonpark.com/event/let-it-grow-pot-your-own-baby-plant-273722/]
URL;VALUE=URI:https://www.cliftonpark.com/event/let-it-grow-pot-your-own-baby-plant-273722/
UID:https://www.cliftonpark.com/event/let-it-grow-pot-your-own-baby-plant-273722/
DTSTAMP:20260423T030113
ORGANIZER;CN=CliftonPark.com:X-ADDR:https://www.cliftonpark.com/event/let-it-grow-pot-your-own-baby-plant-273722/
LOCATION:
END:VEVENT
END:VCALENDAR
