BEGIN:VCALENDAR
VERSION:2.0
PRODID:-//Mannix Marketing//CliftonPark.com ICS//EN
BEGIN:VEVENT
DTEND:20260423T100000
DTSTART:20260423T093000
SUMMARY:Baby Music
DESCRIPTION:Baby Music is a musical play program for ages 0-18 months with a caregiver, incorporating lap bounces, shakers, scarves, and more. [Full Details at https://www.cliftonpark.com/event/baby-music-273720/]
URL;VALUE=URI:https://www.cliftonpark.com/event/baby-music-273720/
UID:https://www.cliftonpark.com/event/baby-music-273720/
DTSTAMP:20260423T030120
ORGANIZER;CN=CliftonPark.com:X-ADDR:https://www.cliftonpark.com/event/baby-music-273720/
LOCATION:
END:VEVENT
END:VCALENDAR
