BEGIN:VCALENDAR
VERSION:2.0
PRODID:-//Mannix Marketing//CliftonPark.com ICS//EN
BEGIN:VEVENT
DTEND:20260423T235900
DTSTART:20260423T000000
SUMMARY:Library Budget Vote and Trustee Election
DESCRIPTION:Vote 9  - 9  at the library. Absentee ballots can be received up until 5 [Full Details at https://www.cliftonpark.com/event/library-budget-vote-and-trustee-election-273719/]
URL;VALUE=URI:https://www.cliftonpark.com/event/library-budget-vote-and-trustee-election-273719/
UID:https://www.cliftonpark.com/event/library-budget-vote-and-trustee-election-273719/
DTSTAMP:20260423T030120
ORGANIZER;CN=CliftonPark.com:X-ADDR:https://www.cliftonpark.com/event/library-budget-vote-and-trustee-election-273719/
LOCATION:
END:VEVENT
END:VCALENDAR
