BEGIN:VCALENDAR
VERSION:2.0
PRODID:-//Mannix Marketing//CliftonPark.com ICS//EN
BEGIN:VEVENT
DTEND:20260422T193000
DTSTART:20260422T183000
SUMMARY:Kids' Quiet Reading Hour
DESCRIPTION:Kids in grades 2 to 6 are invited to sit in a calm space with books from home, or browse stacks of library books available for checkout. [Full Details at https://www.cliftonpark.com/event/kids-quiet-reading-hour-273718/]
URL;VALUE=URI:https://www.cliftonpark.com/event/kids-quiet-reading-hour-273718/
UID:https://www.cliftonpark.com/event/kids-quiet-reading-hour-273718/
DTSTAMP:20260422T025005
ORGANIZER;CN=CliftonPark.com:X-ADDR:https://www.cliftonpark.com/event/kids-quiet-reading-hour-273718/
LOCATION:
END:VEVENT
END:VCALENDAR
