BEGIN:VCALENDAR
VERSION:2.0
PRODID:-//Mannix Marketing//CliftonPark.com ICS//EN
BEGIN:VEVENT
DTEND:20260422T120000
DTSTART:20260422T100000
SUMMARY:English Conversation Class
DESCRIPTION:This class is for English learners who are improving and have some English fluency. [Full Details at https://www.cliftonpark.com/event/english-conversation-class-273716/]
URL;VALUE=URI:https://www.cliftonpark.com/event/english-conversation-class-273716/
UID:https://www.cliftonpark.com/event/english-conversation-class-273716/
DTSTAMP:20260420T124458
ORGANIZER;CN=CliftonPark.com:X-ADDR:https://www.cliftonpark.com/event/english-conversation-class-273716/
LOCATION:
END:VEVENT
END:VCALENDAR
