BEGIN:VCALENDAR
VERSION:2.0
PRODID:-//Mannix Marketing//CliftonPark.com ICS//EN
BEGIN:VEVENT
DTEND:20260422T100000
DTSTART:20260422T093000
SUMMARY:Music and Movement
DESCRIPTION:Music and movement is a high-energy program incorporating movement, songs, and dancing. [Full Details at https://www.cliftonpark.com/event/music-and-movement-273715/]
URL;VALUE=URI:https://www.cliftonpark.com/event/music-and-movement-273715/
UID:https://www.cliftonpark.com/event/music-and-movement-273715/
DTSTAMP:20260420T124458
ORGANIZER;CN=CliftonPark.com:X-ADDR:https://www.cliftonpark.com/event/music-and-movement-273715/
LOCATION:
END:VEVENT
END:VCALENDAR
