BEGIN:VCALENDAR
VERSION:2.0
PRODID:-//Mannix Marketing//CliftonPark.com ICS//EN
BEGIN:VEVENT
DTEND:20260421T193000
DTSTART:20260421T183000
SUMMARY:Fables & Fantasies
DESCRIPTION:Join us for a discussion of Our Vicious Oaths by  Davenport. Fables & Fantasies is a new book discussion group focusing on the "Romantasy" genre - a mashup of romance and fantasy. [Full Details at https://www.cliftonpark.com/event/fables-fantasies-273714/]
URL;VALUE=URI:https://www.cliftonpark.com/event/fables-fantasies-273714/
UID:https://www.cliftonpark.com/event/fables-fantasies-273714/
DTSTAMP:20260419T103213
ORGANIZER;CN=CliftonPark.com:X-ADDR:https://www.cliftonpark.com/event/fables-fantasies-273714/
LOCATION:
END:VEVENT
END:VCALENDAR
