BEGIN:VCALENDAR
VERSION:2.0
PRODID:-//Mannix Marketing//CliftonPark.com ICS//EN
BEGIN:VEVENT
DTEND:20260421T184500
DTSTART:20260421T171500
SUMMARY:Intermediate English Class, In-person and Online
DESCRIPTION:If you have mastered some basic English, but still struggle to understand or to speak fluently, this class level is for you. [Full Details at https://www.cliftonpark.com/event/intermediate-english-class-in-person-and-online-273713/]
URL;VALUE=URI:https://www.cliftonpark.com/event/intermediate-english-class-in-person-and-online-273713/
UID:https://www.cliftonpark.com/event/intermediate-english-class-in-person-and-online-273713/
DTSTAMP:20260419T103040
ORGANIZER;CN=CliftonPark.com:X-ADDR:https://www.cliftonpark.com/event/intermediate-english-class-in-person-and-online-273713/
LOCATION:
END:VEVENT
END:VCALENDAR
