BEGIN:VCALENDAR
VERSION:2.0
PRODID:-//Mannix Marketing//CliftonPark.com ICS//EN
BEGIN:VEVENT
DTEND:20260421T113000
DTSTART:20260421T093000
SUMMARY:Mah Jongg Practice
DESCRIPTION:Come practice your Mah Jongg skills by playing here at the library! All experience levels are welcome to join in on the fun. [Full Details at https://www.cliftonpark.com/event/mah-jongg-practice-273710/]
URL;VALUE=URI:https://www.cliftonpark.com/event/mah-jongg-practice-273710/
UID:https://www.cliftonpark.com/event/mah-jongg-practice-273710/
DTSTAMP:20260419T103132
ORGANIZER;CN=CliftonPark.com:X-ADDR:https://www.cliftonpark.com/event/mah-jongg-practice-273710/
LOCATION:
END:VEVENT
END:VCALENDAR
