BEGIN:VCALENDAR
VERSION:2.0
PRODID:-//Mannix Marketing//CliftonPark.com ICS//EN
BEGIN:VEVENT
DTEND:20260420T210000
DTSTART:20260420T190000
SUMMARY:Library Board Meeting - Budget Hearing
DESCRIPTION:The Library Director will present the highlights of the library's Fiscal Year 2025-2026, and present the 2026-2027 Fiscal Year proposed budget in advance of the April budget vote. [Full Details at https://www.cliftonpark.com/event/library-board-meeting-budget-hearing-273708/]
URL;VALUE=URI:https://www.cliftonpark.com/event/library-board-meeting-budget-hearing-273708/
UID:https://www.cliftonpark.com/event/library-board-meeting-budget-hearing-273708/
DTSTAMP:20260419T103133
ORGANIZER;CN=CliftonPark.com:X-ADDR:https://www.cliftonpark.com/event/library-board-meeting-budget-hearing-273708/
LOCATION:
END:VEVENT
END:VCALENDAR
